BEGIN:VCALENDAR
VERSION:2.0
PRODID:-//Álava Medieval / Erdi Aroko Araba - ECPv6.15.17.1//NONSGML v1.0//EN
CALSCALE:GREGORIAN
METHOD:PUBLISH
X-WR-CALNAME:Álava Medieval / Erdi Aroko Araba
X-ORIGINAL-URL:https://alavamedieval.com
X-WR-CALDESC:Eventos para Álava Medieval / Erdi Aroko Araba
REFRESH-INTERVAL;VALUE=DURATION:PT1H
X-Robots-Tag:noindex
X-PUBLISHED-TTL:PT1H
BEGIN:VTIMEZONE
TZID:Europe/Helsinki
BEGIN:DAYLIGHT
TZOFFSETFROM:+0200
TZOFFSETTO:+0300
TZNAME:EEST
DTSTART:20150329T010000
END:DAYLIGHT
BEGIN:STANDARD
TZOFFSETFROM:+0300
TZOFFSETTO:+0200
TZNAME:EET
DTSTART:20151025T010000
END:STANDARD
BEGIN:DAYLIGHT
TZOFFSETFROM:+0200
TZOFFSETTO:+0300
TZNAME:EEST
DTSTART:20160327T010000
END:DAYLIGHT
BEGIN:STANDARD
TZOFFSETFROM:+0300
TZOFFSETTO:+0200
TZNAME:EET
DTSTART:20161030T010000
END:STANDARD
BEGIN:DAYLIGHT
TZOFFSETFROM:+0200
TZOFFSETTO:+0300
TZNAME:EEST
DTSTART:20170326T010000
END:DAYLIGHT
BEGIN:STANDARD
TZOFFSETFROM:+0300
TZOFFSETTO:+0200
TZNAME:EET
DTSTART:20171029T010000
END:STANDARD
BEGIN:DAYLIGHT
TZOFFSETFROM:+0200
TZOFFSETTO:+0300
TZNAME:EEST
DTSTART:20180325T010000
END:DAYLIGHT
BEGIN:STANDARD
TZOFFSETFROM:+0300
TZOFFSETTO:+0200
TZNAME:EET
DTSTART:20181028T010000
END:STANDARD
END:VTIMEZONE
BEGIN:VEVENT
DTSTART;TZID=Europe/Helsinki:20170204T110000
DTEND;TZID=Europe/Helsinki:20170204T200000
DTSTAMP:20260420T204916
CREATED:20170107T160141Z
LAST-MODIFIED:20170107T162933Z
UID:979-1486206000-1486238400@alavamedieval.com
SUMMARY:Excursión “Románico de la Rioja Alavesa” – 4 de febrero
DESCRIPTION:Empezamos el nuevo año con fuerzas renovadas y programamos esta vez una visita con comida para poder ver a fondo el románico de la Rioja Alavesa. Si bien esta región no cuenta con muchas iglesias con elementos de este estilo\, en comparación con otras zonas con más densidad de románico\, como puede ser la Llanada o la Montaña\, las que aún quedan en pie nos demostrarán la importancia que tuvo toda esta zona fronteriza en la Edad Media. \nUna oportunidad única para descubrir de cerca los secretos de esta magnífica tierra de viñedos\, ¡no te lo pierdas! \n9:00 – Salida desde Vitoria-Gasteiz (frente a El Corte Inglés\, Calle Jesús Guridi).\n10:15 – Visita a Kripan\, lugar que nos servirá de excusa perfecta para introducir algunas nociones generales sobre el románico de la Rioja Alavesa mientras contemplamos las curiosas ruinas de la iglesia de Santa María.\n11:30  – Visita a la villa de Laguardia\, donde buscaremos los vestigios que aún quedan de época románica en algunos de sus edificios más conocidos mientras nos adentramos en su historia medieval.\n12:15 – Pote/café en Laguardia.\n12:45 – Después acudiremos a la iglesia de San Juan\, donde tendremos ocasión de conocer a fondo el impacto que dejó este estilo en los interesantes restos que aún perviven.\n14:00 – Comida en un restaurante de la zona.\n16:00 – Visita a Labastida para conocer de cerca uno de los templos más interesantes del lugar: la ermita del Santo Cristo. Si las fuerzas acompañan\, al descender por las empinadas calles del pueblo\, nos detendremos a contemplar la magnífica iglesia de Nuestra Señora de la Concepción.\n18:00 – Vuelta a Vitoria-Gasteiz
URL:https://alavamedieval.com/evento/excursion-romanico-la-rioja-alavesa-4-febrero/
CATEGORIES:Visita guiada
ATTACH;FMTTYPE=image/jpeg:https://alavamedieval.com/wp-content/uploads/2017/01/prueba_febrero.jpg
END:VEVENT
BEGIN:VEVENT
DTSTART;TZID=Europe/Helsinki:20161203T113000
DTEND;TZID=Europe/Helsinki:20161203T160000
DTSTAMP:20260420T204916
CREATED:20161106T132851Z
LAST-MODIFIED:20161106T132851Z
UID:921-1480764600-1480780800@alavamedieval.com
SUMMARY:Excursión "Ruina y esplendor en el arte alavés: de la Antigüedad al Renacimiento"
DESCRIPTION:El 3 de diciembre os proponemos un recorrido que lleva por título «Ruina y esplendor en el arte alavés: de la Antigüedad al Renacimiento». \nTendemos quizás a considerar los estilos artísticos y arquitectónicos como compartimentos estancos\, empleando expresiones como «románico puro»\, connotadas de cierto desdén hacia otros muchos templos que han sufrido sucesivas transformaciones a lo largo de los siglos. En esta ocasión\, conoceremos tres iglesias marcadas por la historia\, en las que han pervivido materiales de época romana y medieval\, atravesando momentos de decaimiento y resplandor que nos permitirán reflexionar\, entre otras cosas\, sobre la estética de la ruina. ¡No os la perdáis! \n9:30 – Salida desde Vitoria-Gasteiz (frente a El Corte Inglés\, Calle Jesús Guridi). \n10:15 – Visita guiada a la Iglesia de San Román de San Millán. Un magnífico templo del siglo XVI en el que se emplearon gran cantidad de materiales de época romana y medieval [Duración aproximada: 45 minutos]. \n11:10– Visita guiada a la Iglesia de la Asunción de Munain\, donde apreciaremos las huellas de un primitivo templo románico y las pervivencias de elementos pertenecientes a sucesivas construcciones [Duración aproximada: 30 minutos]. \n11:50 – Almuerzo en Salvatierra-Agurain. \n12:30 – Visita guiada a la Iglesia de Nuestra Señora de la Asunción en Okariz. Las ruinas que aún perduran del antiguo templo medieval en su lado Sur nos permitirán reflexionar sobre la importancia y apreciación de los restos artísticos a lo largo de la historia. Además\, veremos cómo los ecos de la Antigüedad calaron hondo en los canteros medievales [Duración aproximada: 45 minutos]. \n14:00 – Vuelta a Vitoria-Gasteiz. \nPrecio: 18€ por persona (15€ Amig@s del Patrimonio Alavés)\nTeléfono de contacto: 639 310 779\nwww.alavamedieval.com
URL:https://alavamedieval.com/evento/excursion-ruina-esplendor-arte-alaves-la-antiguedad-al-renacimiento/
CATEGORIES:Visita guiada
ATTACH;FMTTYPE=image/jpeg:https://alavamedieval.com/wp-content/uploads/2016/11/web.jpg
END:VEVENT
BEGIN:VEVENT
DTSTART;TZID=Europe/Helsinki:20161105T114500
DTEND;TZID=Europe/Helsinki:20161105T160000
DTSTAMP:20260420T204916
CREATED:20161003T091925Z
LAST-MODIFIED:20161003T091926Z
UID:856-1478346300-1478361600@alavamedieval.com
SUMMARY:Excursión “Antiguas tradiciones de Álava: la muerte y sus rituales”
DESCRIPTION:Con la llegada del otoño\, planteamos una excursión especial para el día 5 de noviembre. Por esta vez\, aparcamos el románico para centrarnos en las tradiciones y rituales vinculados a la muerte en Álava. La preocupación por la muerte siempre ha sido una constante en todas las civilizaciones\, culturas y sociedades\, marcando el ritmo de los principales acontecimientos de la vida. Esta salida nos ofrece una ocasión excepcional para festejar la vida mientras pensamos con la muerte.  \n9:45 – Salida desde Vitoria-Gasteiz (frente a El Corte Inglés\, Calle Jesús Guridi).\n10:00 – Visita guiada a la exposición “Muerte y ritual en Álava” en la Fundación Sancho el Sabio con los comisarios de la misma. Además de recorrer la muestra\, tendremos ocasión de consultar de primera mano diversas fuentes relacionadas con el tema procedentes de los fondos de la Fundación [Duración aproximada: 50 minutos].\n11:30 – Almuerzo en Maeztu.\n12:30 – Visita guiada a la iglesia de Bujanda\, donde se conserva el cuerpo incorrupto de San Fausto Labrador. En la sacristía del templo encontramos además varios exvotos pictóricos de gran interés\, únicos en la provincia de Álava [Duración aproximada: 50 minutos].\n14:00 – Vuelta a Vitoria-Gasteiz. \nPrecio: 18 euros por persona\nTeléfono de contacto: 639 310 779\nwww.alavamedieval.com
URL:https://alavamedieval.com/evento/excursion-antiguas-tradiciones-alava-la-muerte-rituales/
ATTACH;FMTTYPE=image/jpeg:https://alavamedieval.com/wp-content/uploads/2016/10/Momia-San-Fausto.jpg
END:VEVENT
BEGIN:VEVENT
DTSTART;TZID=Europe/Helsinki:20161001T113000
DTEND;TZID=Europe/Helsinki:20161001T160000
DTSTAMP:20260420T204916
CREATED:20160903T124045Z
LAST-MODIFIED:20160903T124134Z
UID:840-1475321400-1475337600@alavamedieval.com
SUMMARY:Excursión para descubrir el románico de la Llanada
DESCRIPTION:Después de visitar numerosos enclaves de nuestra geografía\, en esta excursión nos proponemos conocer algunas de las iglesias más destacadas de la Llanada alavesa. A escasos kilómetros de Vitoria-Gasteiz se puede apreciar un patrimonio muy poco conocido que sorprenderá a los visitantes. \nVisita a Matauco\, Oreitia y Elburgo. \nToda la información y reservas en: http://alavamedieval.com/excursion-descubrir-romanico-la-llanada/
URL:https://alavamedieval.com/evento/excursion-descubrir-romanico-la-llanada/
CATEGORIES:Visita guiada
ATTACH;FMTTYPE=image/jpeg:https://alavamedieval.com/wp-content/uploads/2016/05/ATHA-DAF-GUE-1084.jpg
END:VEVENT
BEGIN:VEVENT
DTSTART;TZID=Europe/Helsinki:20160903T113000
DTEND;TZID=Europe/Helsinki:20160903T160000
DTSTAMP:20260420T204916
CREATED:20160803T105735Z
LAST-MODIFIED:20160803T105735Z
UID:760-1472902200-1472918400@alavamedieval.com
SUMMARY:Excursión por el románico alrededor de Vitoria-Gasteiz
DESCRIPTION:
URL:https://alavamedieval.com/evento/excursion-romanico-alrededor-vitoria-gasteiz/
CATEGORIES:Visita guiada
ATTACH;FMTTYPE=image/jpeg:https://alavamedieval.com/wp-content/uploads/2016/08/excursion-romanico-vitoria1.jpg
END:VEVENT
BEGIN:VEVENT
DTSTART;VALUE=DATE:20160730
DTEND;VALUE=DATE:20160801
DTSTAMP:20260420T204916
CREATED:20160705T164610Z
LAST-MODIFIED:20160705T164716Z
UID:730-1469844000-1469930399@alavamedieval.com
SUMMARY:Excursión para conocer el románico de la montaña alavesa
DESCRIPTION:Excursión el 30 de julio para conocer el románico de la montaña alavesa. \nAquí podéis ver el plan previsto para la salida: \n\n9:00 – Salida desde Vitoria-Gasteiz (frente al Corte Inglés\, Calle Jesús Guridi).\n9:45 – Visita guiada a la Ermita de Nuestra Señora del Campo (Maeztu)\, una de las iglesias románicas alavesas mejor conservadas [Duración aproximada: 30 minutos].\n10:30 – Almuerzo en Maeztu.\n11:30 – Visita guiada a la Ermita de Andra Mari (Ullíbarri Arana)\, un pequeño templo recientemente restaurado\, enclavado en un paraje característico de la Montaña Alavesa\n[Duración aproximada: 30 minutos].\n12:15 – Visita guiada a la Ermita de Nuestra Señora de Elizmendi (Contrasta)\, un lugar emblemático rodeado de curiosidades y leyendas [Duración aproximada: 30 minutos].\n13:00 – Vuelta a Vitoria-Gasteiz.\nLlegada aproximada a las 13:45-14:00 \nPrecio: 15 euros por persona (incluye desplazamiento\, visita guiada y almuerzo)\nInformación y reservas:\n639 310 779\nalavamedieval@gmail.com
URL:https://alavamedieval.com/evento/excursion-conocer-romanico-la-montana-alavesa/
CATEGORIES:Visita guiada
ATTACH;FMTTYPE=image/jpeg:https://alavamedieval.com/wp-content/uploads/2016/07/Info_Montaña2.jpg
END:VEVENT
BEGIN:VEVENT
DTSTART;TZID=Europe/Helsinki:20160624T190000
DTEND;TZID=Europe/Helsinki:20160624T233000
DTSTAMP:20260420T204916
CREATED:20160623T061455Z
LAST-MODIFIED:20160623T061641Z
UID:716-1466794800-1466811000@alavamedieval.com
SUMMARY:Dibupicnic con talleres infantiles de dibujo y visita guiada al Santuario de Estíbaliz
DESCRIPTION:En colaboración con el colectivo de ilustradores Ilustrapados en Araba vamos a realizar un dibupicnic en el entorno del Santuario de Estíbaliz\, donde cualquiera que quiera hacerlo podrá dibujar en compañía de profesionales y además en un ambiente animado y cómo no\, acompañado de potes para los mayores y de refrescos para los más txikis. Aprovecharemos este evento para inaugurar la sede en Estíbaliz de Álava Medieval\, proyecto de difusión del patrimonio medieval alavés del que Kultur Gasteiz es responsable de divulgación. \nMás información: http://www.kulturgasteiz.com/dibupicnic-con-talleres-infantiles-de-dibujo-24-de-junio-en-estibaliz-de-1800-a-2130/
URL:https://alavamedieval.com/evento/dibupicnic-talleres-infantiles-dibujo-visita-guiada-al-santuario-estibaliz/
LOCATION:Estíbaliz\, Santuario de Nuestra Señora de Estíbaliz
CATEGORIES:Visita guiada
END:VEVENT
END:VCALENDAR