BEGIN:VCALENDAR
VERSION:2.0
PRODID:-//Álava Medieval / Erdi Aroko Araba - ECPv6.15.17.1//NONSGML v1.0//EN
CALSCALE:GREGORIAN
METHOD:PUBLISH
X-ORIGINAL-URL:https://alavamedieval.com
X-WR-CALDESC:Eventos para Álava Medieval / Erdi Aroko Araba
REFRESH-INTERVAL;VALUE=DURATION:PT1H
X-Robots-Tag:noindex
X-PUBLISHED-TTL:PT1H
BEGIN:VTIMEZONE
TZID:Europe/Helsinki
BEGIN:DAYLIGHT
TZOFFSETFROM:+0200
TZOFFSETTO:+0300
TZNAME:EEST
DTSTART:20250330T010000
END:DAYLIGHT
BEGIN:STANDARD
TZOFFSETFROM:+0300
TZOFFSETTO:+0200
TZNAME:EET
DTSTART:20251026T010000
END:STANDARD
BEGIN:DAYLIGHT
TZOFFSETFROM:+0200
TZOFFSETTO:+0300
TZNAME:EEST
DTSTART:20260329T010000
END:DAYLIGHT
BEGIN:STANDARD
TZOFFSETFROM:+0300
TZOFFSETTO:+0200
TZNAME:EET
DTSTART:20261025T010000
END:STANDARD
BEGIN:DAYLIGHT
TZOFFSETFROM:+0200
TZOFFSETTO:+0300
TZNAME:EEST
DTSTART:20270328T010000
END:DAYLIGHT
BEGIN:STANDARD
TZOFFSETFROM:+0300
TZOFFSETTO:+0200
TZNAME:EET
DTSTART:20271031T010000
END:STANDARD
END:VTIMEZONE
BEGIN:VEVENT
DTSTART;TZID=Europe/Helsinki:20260516T090000
DTEND;TZID=Europe/Helsinki:20260516T143000
DTSTAMP:20260421T161429
CREATED:20260421T095127Z
LAST-MODIFIED:20260421T095135Z
UID:26198-1778922000-1778941800@alavamedieval.com
SUMMARY:EXCURSIÓN: «Arte en el arciprestazgo de Treviño-Albaina: Urarte\, Pariza e Imiruri»
DESCRIPTION:EXCURSIÓN: «Arte en el arciprestazgo de Treviño-Albaina: Urarte\, Pariza e Imiruri» (16 y 17 de mayo)
URL:https://alavamedieval.com/evento/excursion-arte-en-el-arciprestazgo-de-trevino-albaina-urarte-pariza-e-imiruri-16-y-17-de-mayo/2026-05-16/
CATEGORIES:Excursión de Álava Medieval/Erdi Aroko Araba
END:VEVENT
BEGIN:VEVENT
DTSTART;TZID=Europe/Helsinki:20260517T090000
DTEND;TZID=Europe/Helsinki:20260517T143000
DTSTAMP:20260421T161429
CREATED:20260421T095127Z
LAST-MODIFIED:20260421T095135Z
UID:26199-1779008400-1779028200@alavamedieval.com
SUMMARY:EXCURSIÓN: «Arte en el arciprestazgo de Treviño-Albaina: Urarte\, Pariza e Imiruri»
DESCRIPTION:EXCURSIÓN: «Arte en el arciprestazgo de Treviño-Albaina: Urarte\, Pariza e Imiruri» (16 y 17 de mayo)
URL:https://alavamedieval.com/evento/excursion-arte-en-el-arciprestazgo-de-trevino-albaina-urarte-pariza-e-imiruri-16-y-17-de-mayo/2026-05-17/
CATEGORIES:Excursión de Álava Medieval/Erdi Aroko Araba
END:VEVENT
END:VCALENDAR