BEGIN:VCALENDAR
VERSION:2.0
PRODID:-//Álava Medieval / Erdi Aroko Araba - ECPv6.15.17.1//NONSGML v1.0//EN
CALSCALE:GREGORIAN
METHOD:PUBLISH
X-WR-CALNAME:Álava Medieval / Erdi Aroko Araba
X-ORIGINAL-URL:https://alavamedieval.com
X-WR-CALDESC:Eventos para Álava Medieval / Erdi Aroko Araba
REFRESH-INTERVAL;VALUE=DURATION:PT1H
X-Robots-Tag:noindex
X-PUBLISHED-TTL:PT1H
BEGIN:VTIMEZONE
TZID:Europe/Helsinki
BEGIN:DAYLIGHT
TZOFFSETFROM:+0200
TZOFFSETTO:+0300
TZNAME:EEST
DTSTART:20220327T010000
END:DAYLIGHT
BEGIN:STANDARD
TZOFFSETFROM:+0300
TZOFFSETTO:+0200
TZNAME:EET
DTSTART:20221030T010000
END:STANDARD
BEGIN:DAYLIGHT
TZOFFSETFROM:+0200
TZOFFSETTO:+0300
TZNAME:EEST
DTSTART:20230326T010000
END:DAYLIGHT
BEGIN:STANDARD
TZOFFSETFROM:+0300
TZOFFSETTO:+0200
TZNAME:EET
DTSTART:20231029T010000
END:STANDARD
BEGIN:DAYLIGHT
TZOFFSETFROM:+0200
TZOFFSETTO:+0300
TZNAME:EEST
DTSTART:20240331T010000
END:DAYLIGHT
BEGIN:STANDARD
TZOFFSETFROM:+0300
TZOFFSETTO:+0200
TZNAME:EET
DTSTART:20241027T010000
END:STANDARD
END:VTIMEZONE
BEGIN:VEVENT
DTSTART;TZID=Europe/Helsinki:20230318T130000
DTEND;TZID=Europe/Helsinki:20230318T153000
DTSTAMP:20260425T170123
CREATED:20230314T124637Z
LAST-MODIFIED:20230314T125015Z
UID:18488-1679144400-1679153400@alavamedieval.com
SUMMARY:Ecos de la Prehistoria y el medievo. Villabuena de Álava/Eskuernaga
DESCRIPTION:En esta primera ruta patrimonial por Rioja Alavesa\, visitaremos la localidad de Villabuena de Álava/Eskuernaga\, donde viajaremos hasta su pasado más remoto. Además de recorrer el pueblo\, a lo largo de la mañana visitaremos dos templos: la iglesia de San Andrés (XVI-XVII) y la pequeña ermita de Santa María (XII-XIII). En primer lugar\, entraremos en San Andrés\, donde admiraremos su imponente retablo mayor\, las pinturas del artista riojano José Bejes o su pila bautismal tardogótica. Después\, en la ermita de Santa María veremos varios elementos de lo que fue el primitivo templo: la sobria portada\, un estético ventanal y la talla de Santa María de Villabuena. Por último\, visitaremos el dolmen del Montecillo\, una interesante construcción megalítica descubierta en 2009 y excavada por Javier Fernández Eraso y José Antonio Mujika Alustiza. \nComo veis\, todo un planazo para un sábado por Rioja Alavesa\, ¡os esperamos!
URL:https://alavamedieval.com/evento/ruta-eskuernaga/
LOCATION:Villabuena de Álava/Eskuerga\, 01307
CATEGORIES:Visita guiada
ATTACH;FMTTYPE=image/jpeg:https://alavamedieval.com/wp-content/uploads/2023/03/RUTAS-PATRIMONIALES-RIOJA-ALAVESA-PRIMAVERA-2023.jpg
END:VEVENT
BEGIN:VEVENT
DTSTART;TZID=Europe/Helsinki:20230318T150000
DTEND;TZID=Europe/Helsinki:20230318T163000
DTSTAMP:20260425T170123
CREATED:20230314T132422Z
LAST-MODIFIED:20230314T132422Z
UID:18569-1679151600-1679157000@alavamedieval.com
SUMMARY:Visita guiada a Añua y Arbulo
DESCRIPTION:¡Descubre las iglesias pintadas de la Llanada Alavesa!
URL:https://alavamedieval.com/evento/visita-guiada-anua-arbulo/2023-03-18/
CATEGORIES:Visita guiada
ATTACH;FMTTYPE=image/jpeg:https://alavamedieval.com/wp-content/uploads/2022/01/arbulo6-3.jpg
END:VEVENT
END:VCALENDAR