BEGIN:VCALENDAR
VERSION:2.0
PRODID:-//Álava Medieval / Erdi Aroko Araba - ECPv6.15.17.1//NONSGML v1.0//EN
CALSCALE:GREGORIAN
METHOD:PUBLISH
X-ORIGINAL-URL:https://alavamedieval.com
X-WR-CALDESC:Eventos para Álava Medieval / Erdi Aroko Araba
REFRESH-INTERVAL;VALUE=DURATION:PT1H
X-Robots-Tag:noindex
X-PUBLISHED-TTL:PT1H
BEGIN:VTIMEZONE
TZID:Europe/Helsinki
BEGIN:DAYLIGHT
TZOFFSETFROM:+0200
TZOFFSETTO:+0300
TZNAME:EEST
DTSTART:20240331T010000
END:DAYLIGHT
BEGIN:STANDARD
TZOFFSETFROM:+0300
TZOFFSETTO:+0200
TZNAME:EET
DTSTART:20241027T010000
END:STANDARD
BEGIN:DAYLIGHT
TZOFFSETFROM:+0200
TZOFFSETTO:+0300
TZNAME:EEST
DTSTART:20250330T010000
END:DAYLIGHT
BEGIN:STANDARD
TZOFFSETFROM:+0300
TZOFFSETTO:+0200
TZNAME:EET
DTSTART:20251026T010000
END:STANDARD
BEGIN:DAYLIGHT
TZOFFSETFROM:+0200
TZOFFSETTO:+0300
TZNAME:EEST
DTSTART:20260329T010000
END:DAYLIGHT
BEGIN:STANDARD
TZOFFSETFROM:+0300
TZOFFSETTO:+0200
TZNAME:EET
DTSTART:20261025T010000
END:STANDARD
END:VTIMEZONE
BEGIN:VEVENT
DTSTART;TZID=Europe/Helsinki:20251102T150000
DTEND;TZID=Europe/Helsinki:20251102T163000
DTSTAMP:20260421T133251
CREATED:20241115T073523Z
LAST-MODIFIED:20260123T200345Z
UID:23093-1762095600-1762101000@alavamedieval.com
SUMMARY:Visita Agurain/Salvatierra
DESCRIPTION:
URL:https://alavamedieval.com/evento/visita-agurain-salvatierra/2025-11-02/
CATEGORIES:Visita guiada
END:VEVENT
BEGIN:VEVENT
DTSTART;TZID=Europe/Helsinki:20251102T150000
DTEND;TZID=Europe/Helsinki:20251102T163000
DTSTAMP:20260421T133251
CREATED:20241115T074258Z
LAST-MODIFIED:20241115T074258Z
UID:23372-1762095600-1762101000@alavamedieval.com
SUMMARY:Visita guiada a Agurain/Salvatierra
DESCRIPTION:
URL:https://alavamedieval.com/evento/visita-guiada-a-agurain-salvatierra-2/2025-11-02/
CATEGORIES:Visita guiada
END:VEVENT
BEGIN:VEVENT
DTSTART;TZID=Europe/Helsinki:20251107T170000
DTEND;TZID=Europe/Helsinki:20251107T183000
DTSTAMP:20260421T133251
CREATED:20251020T085237Z
LAST-MODIFIED:20251020T085237Z
UID:25219-1762534800-1762540200@alavamedieval.com
SUMMARY:Visita guiada «El enigma de Armentia»
DESCRIPTION:
URL:https://alavamedieval.com/evento/visita-guiada-el-enigma-de-armentia/2025-11-07/
CATEGORIES:Visita guiada
END:VEVENT
BEGIN:VEVENT
DTSTART;TZID=Europe/Helsinki:20251108T110000
DTEND;TZID=Europe/Helsinki:20251108T130000
DTSTAMP:20260421T133251
CREATED:20250825T144352Z
LAST-MODIFIED:20250825T144352Z
UID:25058-1762599600-1762606800@alavamedieval.com
SUMMARY:Visita "Del románico al renacimiento: Berberana y Páganos"
DESCRIPTION:
URL:https://alavamedieval.com/evento/visita-del-romanico-al-renacimiento-berberana-y-paganos/
CATEGORIES:Visita guiada
END:VEVENT
BEGIN:VEVENT
DTSTART;TZID=Europe/Helsinki:20251109T150000
DTEND;TZID=Europe/Helsinki:20251109T163000
DTSTAMP:20260421T133251
CREATED:20241115T074258Z
LAST-MODIFIED:20241115T074258Z
UID:23373-1762700400-1762705800@alavamedieval.com
SUMMARY:Visita guiada a Agurain/Salvatierra
DESCRIPTION:
URL:https://alavamedieval.com/evento/visita-guiada-a-agurain-salvatierra-2/2025-11-09/
CATEGORIES:Visita guiada
END:VEVENT
BEGIN:VEVENT
DTSTART;TZID=Europe/Helsinki:20251116T150000
DTEND;TZID=Europe/Helsinki:20251116T163000
DTSTAMP:20260421T133251
CREATED:20241115T073523Z
LAST-MODIFIED:20241115T073523Z
UID:23438-1763305200-1763310600@alavamedieval.com
SUMMARY:Visita Agurain/Salvatierra
DESCRIPTION:
URL:https://alavamedieval.com/evento/visita-agurain-salvatierra/2025-11-16/
CATEGORIES:Visita guiada
END:VEVENT
BEGIN:VEVENT
DTSTART;TZID=Europe/Helsinki:20251116T150000
DTEND;TZID=Europe/Helsinki:20251116T163000
DTSTAMP:20260421T133251
CREATED:20241115T074258Z
LAST-MODIFIED:20241115T074258Z
UID:23439-1763305200-1763310600@alavamedieval.com
SUMMARY:Visita guiada a Agurain/Salvatierra
DESCRIPTION:
URL:https://alavamedieval.com/evento/visita-guiada-a-agurain-salvatierra-2/2025-11-16/
CATEGORIES:Visita guiada
END:VEVENT
BEGIN:VEVENT
DTSTART;TZID=Europe/Helsinki:20251122T110000
DTEND;TZID=Europe/Helsinki:20251122T130000
DTSTAMP:20260421T133251
CREATED:20250825T144429Z
LAST-MODIFIED:20250825T144429Z
UID:25060-1763809200-1763816400@alavamedieval.com
SUMMARY:Visita "El esplendor histórico-artístico de Lanciego"
DESCRIPTION:
URL:https://alavamedieval.com/evento/visita-el-esplendor-historico-artistico-de-lanciego-2/
CATEGORIES:Visita guiada
END:VEVENT
BEGIN:VEVENT
DTSTART;TZID=Europe/Helsinki:20251123T150000
DTEND;TZID=Europe/Helsinki:20251123T163000
DTSTAMP:20260421T133251
CREATED:20241115T073523Z
LAST-MODIFIED:20241115T073523Z
UID:23544-1763910000-1763915400@alavamedieval.com
SUMMARY:Visita Agurain/Salvatierra
DESCRIPTION:
URL:https://alavamedieval.com/evento/visita-agurain-salvatierra/2025-11-23/
CATEGORIES:Visita guiada
END:VEVENT
BEGIN:VEVENT
DTSTART;TZID=Europe/Helsinki:20251123T150000
DTEND;TZID=Europe/Helsinki:20251123T163000
DTSTAMP:20260421T133251
CREATED:20241115T074258Z
LAST-MODIFIED:20241115T074258Z
UID:23545-1763910000-1763915400@alavamedieval.com
SUMMARY:Visita guiada a Agurain/Salvatierra
DESCRIPTION:
URL:https://alavamedieval.com/evento/visita-guiada-a-agurain-salvatierra-2/2025-11-23/
CATEGORIES:Visita guiada
END:VEVENT
BEGIN:VEVENT
DTSTART;TZID=Europe/Helsinki:20251128T170000
DTEND;TZID=Europe/Helsinki:20251128T183000
DTSTAMP:20260421T133251
CREATED:20250923T135449Z
LAST-MODIFIED:20250923T135449Z
UID:25138-1764349200-1764354600@alavamedieval.com
SUMMARY:Visita especial "El colegio San Prudencio y el Hospicio"
DESCRIPTION:
URL:https://alavamedieval.com/evento/visita-especial-el-colegio-san-prudencio-y-el-hospicio-2/2025-11-28/
CATEGORIES:Visita guiada
END:VEVENT
BEGIN:VEVENT
DTSTART;TZID=Europe/Helsinki:20251130T110000
DTEND;TZID=Europe/Helsinki:20251130T123000
DTSTAMP:20260421T133251
CREATED:20251118T151001Z
LAST-MODIFIED:20251118T151001Z
UID:25299-1764500400-1764505800@alavamedieval.com
SUMMARY:Visita guiada al cementerio de Santa Isabel
DESCRIPTION:Más información y tickets: \nhttps://entradium.com/es/events/visita-al-cementerio-de-santa-isabel/sessions/30-11-2025-11-00-puerta-principal-del-cementerio-de-santa-isabel \n 
URL:https://alavamedieval.com/evento/visita-guiada-al-cementerio-de-santa-isabel/
CATEGORIES:Visita guiada
END:VEVENT
BEGIN:VEVENT
DTSTART;TZID=Europe/Helsinki:20251130T150000
DTEND;TZID=Europe/Helsinki:20251130T163000
DTSTAMP:20260421T133251
CREATED:20241115T073523Z
LAST-MODIFIED:20241115T073523Z
UID:23559-1764514800-1764520200@alavamedieval.com
SUMMARY:Visita Agurain/Salvatierra
DESCRIPTION:
URL:https://alavamedieval.com/evento/visita-agurain-salvatierra/2025-11-30/
CATEGORIES:Visita guiada
END:VEVENT
BEGIN:VEVENT
DTSTART;TZID=Europe/Helsinki:20251130T150000
DTEND;TZID=Europe/Helsinki:20251130T163000
DTSTAMP:20260421T133251
CREATED:20241115T074258Z
LAST-MODIFIED:20241115T074258Z
UID:23560-1764514800-1764520200@alavamedieval.com
SUMMARY:Visita guiada a Agurain/Salvatierra
DESCRIPTION:
URL:https://alavamedieval.com/evento/visita-guiada-a-agurain-salvatierra-2/2025-11-30/
CATEGORIES:Visita guiada
END:VEVENT
END:VCALENDAR