BEGIN:VCALENDAR
VERSION:2.0
PRODID:-//Álava Medieval / Erdi Aroko Araba - ECPv6.15.17.1//NONSGML v1.0//EN
CALSCALE:GREGORIAN
METHOD:PUBLISH
X-ORIGINAL-URL:https://alavamedieval.com
X-WR-CALDESC:Eventos para Álava Medieval / Erdi Aroko Araba
REFRESH-INTERVAL;VALUE=DURATION:PT1H
X-Robots-Tag:noindex
X-PUBLISHED-TTL:PT1H
BEGIN:VTIMEZONE
TZID:Europe/Helsinki
BEGIN:DAYLIGHT
TZOFFSETFROM:+0200
TZOFFSETTO:+0300
TZNAME:EEST
DTSTART:20240331T010000
END:DAYLIGHT
BEGIN:STANDARD
TZOFFSETFROM:+0300
TZOFFSETTO:+0200
TZNAME:EET
DTSTART:20241027T010000
END:STANDARD
BEGIN:DAYLIGHT
TZOFFSETFROM:+0200
TZOFFSETTO:+0300
TZNAME:EEST
DTSTART:20250330T010000
END:DAYLIGHT
BEGIN:STANDARD
TZOFFSETFROM:+0300
TZOFFSETTO:+0200
TZNAME:EET
DTSTART:20251026T010000
END:STANDARD
BEGIN:DAYLIGHT
TZOFFSETFROM:+0200
TZOFFSETTO:+0300
TZNAME:EEST
DTSTART:20260329T010000
END:DAYLIGHT
BEGIN:STANDARD
TZOFFSETFROM:+0300
TZOFFSETTO:+0200
TZNAME:EET
DTSTART:20261025T010000
END:STANDARD
END:VTIMEZONE
BEGIN:VEVENT
DTSTART;TZID=Europe/Helsinki:20250503T130000
DTEND;TZID=Europe/Helsinki:20250503T150000
DTSTAMP:20260420T110550
CREATED:20250426T162037Z
LAST-MODIFIED:20250426T162111Z
UID:24061-1746277200-1746284400@alavamedieval.com
SUMMARY:Visita "Labraza y Moreda de Álava: villas amuralladas"
DESCRIPTION:Un año más\, con la primavera regresan las rutas patrimoniales en Rioja Alavesa\, una iniciativa turístico-cultural promovida por la Cuadrilla de Rioja Alavesa junto con Álava Medieval – Erdi Aroko Araba\, con el objetivo de ofrecer un acercamiento histórico-artístico a la comarca\, divulgando su riqueza patrimonial y programando un amplio abanico de recorridos en localidades generalmente menos atendidas o visitadas. \nPara esta ocasión\, ofrecemos seis planes distintos desde mayo a julio\, planteando algunas rutas nunca antes programadas y repitiendo otras que han contado con gran éxito y acogida en las ediciones precedentes. Como tendreis ocasión de consultar en el cartel anunciador\, el calendario previsto quedaría así: \n			\n			\n				\n				\n				\n				\n			\n				\n				\n				\n				\n				\n				\n				\n				\n				\n				\n				3 de mayo – Labraza y Moreda de Álava: villas amuralladas \n24 de mayo – Deleite barroco en Barriobusto y Oyón \n7 de junio – Arte historia a orillas del río Ebro: Lapuebla de Labarca \n28 de junio – La villa medieval de Salinillas de Buradón \n5 de julio – Del románico al renacimiento en Berberana y Páganos \n19 de julio – El esplendor histórico-artístico de Lanciego \n			\n				\n				\n				\n				\n				\n\n\nEstas rutas patrimoniales son gratuitas y no incluyen el traslado\,por lo que cada usuario deberá desplazarse en su vehículo particular. \nLa inscripción es obligatoria y deberá realizarse a través los siguientes medios: el teléfono 945-600-252 o vía whatsapp en el 640-308-778 \nAdemás\, la reserva también puede realizarse en la web visitriojaalavesa.com \nLas plazas son limitadas.Todos los recorridos se inician a las 11h (en el punto indicado en el cartel anunciador). \n\n\n¡Una oportunidad de lujo para conocer de primera mano\nnuestro territorio y su riqueza artística\n\n 
URL:https://alavamedieval.com/evento/visita-labraza-y-moreda-de-alava-villas-amuralladas/
CATEGORIES:Visita guiada
END:VEVENT
BEGIN:VEVENT
DTSTART;TZID=Europe/Helsinki:20250504T150000
DTEND;TZID=Europe/Helsinki:20250504T163000
DTSTAMP:20260420T110550
CREATED:20241115T073523Z
LAST-MODIFIED:20260123T200343Z
UID:23067-1746370800-1746376200@alavamedieval.com
SUMMARY:Visita Agurain/Salvatierra
DESCRIPTION:
URL:https://alavamedieval.com/evento/visita-agurain-salvatierra/2025-05-04/
CATEGORIES:Visita guiada
END:VEVENT
BEGIN:VEVENT
DTSTART;TZID=Europe/Helsinki:20250504T150000
DTEND;TZID=Europe/Helsinki:20250504T163000
DTSTAMP:20260420T110550
CREATED:20241115T074258Z
LAST-MODIFIED:20241115T074258Z
UID:23346-1746370800-1746376200@alavamedieval.com
SUMMARY:Visita guiada a Agurain/Salvatierra
DESCRIPTION:
URL:https://alavamedieval.com/evento/visita-guiada-a-agurain-salvatierra-2/2025-05-04/
CATEGORIES:Visita guiada
END:VEVENT
BEGIN:VEVENT
DTSTART;TZID=Europe/Helsinki:20250511T150000
DTEND;TZID=Europe/Helsinki:20250511T163000
DTSTAMP:20260420T110550
CREATED:20241115T073523Z
LAST-MODIFIED:20260123T200343Z
UID:23068-1746975600-1746981000@alavamedieval.com
SUMMARY:Visita Agurain/Salvatierra
DESCRIPTION:
URL:https://alavamedieval.com/evento/visita-agurain-salvatierra/2025-05-11/
CATEGORIES:Visita guiada
END:VEVENT
BEGIN:VEVENT
DTSTART;TZID=Europe/Helsinki:20250511T150000
DTEND;TZID=Europe/Helsinki:20250511T163000
DTSTAMP:20260420T110550
CREATED:20241115T074258Z
LAST-MODIFIED:20241115T074258Z
UID:23347-1746975600-1746981000@alavamedieval.com
SUMMARY:Visita guiada a Agurain/Salvatierra
DESCRIPTION:
URL:https://alavamedieval.com/evento/visita-guiada-a-agurain-salvatierra-2/2025-05-11/
CATEGORIES:Visita guiada
END:VEVENT
BEGIN:VEVENT
DTSTART;TZID=Europe/Helsinki:20250517T120000
DTEND;TZID=Europe/Helsinki:20250517T140000
DTSTAMP:20260420T110550
CREATED:20250327T150212Z
LAST-MODIFIED:20250327T150216Z
UID:23948-1747483200-1747490400@alavamedieval.com
SUMMARY:Ruta Patrimonial: "El paisaje sagrado de Markinez"
DESCRIPTION:Por quinto año consecutivo\, la Cuadrilla de Montaña Alavesa revalida su apuesta por dar a conocer los recursos histórico-patrimoniales de la comarca mediante un completo programa de rutas patrimoniales\, que tendrá su primer desarrollo durante la primavera. Este proyecto\, ideado en colaboración con Álava Medieval – Erdi Aroko Araba\, busca aproximar a la ciudadanía y a quienes nos visitan la historia y el arte que atesoran diversos municipios y concejos. Reivindicando la riqueza y el atractivo de lugares que escapan al turismo de los grandes circuitos\, en una apuesta clara y rigurosa por el conocimiento del territorio. \nEn esta ocasión\, son varias las rutas inéditas que se han programado\, en combinación con otros recorridos desarrollados con éxito en las campañas precedentes. De este modo\, el calendario completo sería el siguiente: \n			\n			\n				\n				\n				\n				\n			\n				\n				\n				\n				\n				\n				\n				\n				\n				\n				\n				5 de abril – Del románico al renacimiento: Onraita y Roitegui \n26 de abril – La riqueza patrimonial de la villa medieval de Kontrasta \n17 de mayo – El paisaje sagrado de Markinez \n31 de mayo – La villa fortificada de Antoñana y la devoción a San Fausto en Bujanda \n7 de junio – Arte e historia en los concejos de Peñacerrada: Loza y Baroja-Zumentu \n28 de junio – Del gótico a la edad moderna: Lagrán y Pipaón \n			\n				\n				\n				\n				\n				\n\nEstas rutas patrimoniales son gratuitas y no incluyen el traslado\,por lo que cada usuario deberá desplazarse en su vehículo particular. \nLa inscripción es obligatoria y deberá realizarse de lunes a juevesantes de la fecha de la ruta\, llamando al teléfono: 945 40 54 24.  \nLas plazas son limitadas. Y todos los recorridos se inician a las 10h. \n\nLa primera ruta se celebrará el primer fin de semana de abril\,¡no os la perdáis!\n 
URL:https://alavamedieval.com/evento/ruta-patrimonial-el-paisaje-sagrado-de-markinez/
CATEGORIES:Visita guiada
END:VEVENT
BEGIN:VEVENT
DTSTART;TZID=Europe/Helsinki:20250518T150000
DTEND;TZID=Europe/Helsinki:20250518T163000
DTSTAMP:20260420T110550
CREATED:20241115T073523Z
LAST-MODIFIED:20260123T200343Z
UID:23069-1747580400-1747585800@alavamedieval.com
SUMMARY:Visita Agurain/Salvatierra
DESCRIPTION:
URL:https://alavamedieval.com/evento/visita-agurain-salvatierra/2025-05-18/
CATEGORIES:Visita guiada
END:VEVENT
BEGIN:VEVENT
DTSTART;TZID=Europe/Helsinki:20250518T150000
DTEND;TZID=Europe/Helsinki:20250518T163000
DTSTAMP:20260420T110550
CREATED:20241115T074258Z
LAST-MODIFIED:20241115T074258Z
UID:23348-1747580400-1747585800@alavamedieval.com
SUMMARY:Visita guiada a Agurain/Salvatierra
DESCRIPTION:
URL:https://alavamedieval.com/evento/visita-guiada-a-agurain-salvatierra-2/2025-05-18/
CATEGORIES:Visita guiada
END:VEVENT
BEGIN:VEVENT
DTSTART;TZID=Europe/Helsinki:20250523T200000
DTEND;TZID=Europe/Helsinki:20250523T220000
DTSTAMP:20260420T110550
CREATED:20250515T125040Z
LAST-MODIFIED:20250515T125044Z
UID:24121-1748030400-1748037600@alavamedieval.com
SUMMARY:Visita Especial: El colegio San Prudencio y el Hospicio
DESCRIPTION:Dado el enorme éxito que tuvieron los pases de esta visita programados en la primavera de 2024\, volvemos a lanzar un par de fechas más: una oportunidad excepcional de conocer el colegio-seminario San Prudencio y el Hospicio. \nNos aproximamos a uno de los edificios más desconocidos e ignorados del casco histórico de Vitoria-Gasteiz. El colegio San Prudencio surge a principios del siglo XVII\, auspiciado por el religioso vitoriano Martín de Salvatierra (1525-1604)\, obispo de Ciudad Rodrigo. Tras su uso como colegio-seminario\, en el siglo XVIII el inmueble acogerá la Casa de Misericordia u Hospicio\, institución asistencial promovida por la Real Sociedad Bascongada de Amigos del País. Además\, tendremos ocasión de visitar el interior de la Capilla (hoy día al servicio de la Residencia de mayores San Prudencio)\, donde se encuentra el imponente sepulcro de Martín de Salvatierra y una vistosísima cúpula. \nDos pases: 23 de mayo y 20 de junio 2025\, a las 18h. \nReserva previa obligatoria: info@alavamedieval.com / 660 766 383 \nPunto de encuentro: jardines de la Residencia San Prudencio (C/ Francia) \nPrecio: 11€ (9€ para Amigos del Patrimonio Alavés)
URL:https://alavamedieval.com/evento/visita-especial-el-colegio-san-prudencio-y-el-hospicio/2025-05-23/
CATEGORIES:Visita guiada
END:VEVENT
BEGIN:VEVENT
DTSTART;TZID=Europe/Helsinki:20250524T130000
DTEND;TZID=Europe/Helsinki:20250524T150000
DTSTAMP:20260420T110550
CREATED:20250426T162232Z
LAST-MODIFIED:20250426T162237Z
UID:24066-1748091600-1748098800@alavamedieval.com
SUMMARY:Visita "Deleite barroco en Barriobusto y Oyón"
DESCRIPTION:Un año más\, con la primavera regresan las rutas patrimoniales en Rioja Alavesa\, una iniciativa turístico-cultural promovida por la Cuadrilla de Rioja Alavesa junto con Álava Medieval – Erdi Aroko Araba\, con el objetivo de ofrecer un acercamiento histórico-artístico a la comarca\, divulgando su riqueza patrimonial y programando un amplio abanico de recorridos en localidades generalmente menos atendidas o visitadas. \nPara esta ocasión\, ofrecemos seis planes distintos desde mayo a julio\, planteando algunas rutas nunca antes programadas y repitiendo otras que han contado con gran éxito y acogida en las ediciones precedentes. Como tendreis ocasión de consultar en el cartel anunciador\, el calendario previsto quedaría así: \n			\n			\n				\n				\n				\n				\n			\n				\n				\n				\n				\n				\n				\n				\n				\n				\n				\n				3 de mayo – Labraza y Moreda de Álava: villas amuralladas \n24 de mayo – Deleite barroco en Barriobusto y Oyón \n7 de junio – Arte historia a orillas del río Ebro: Lapuebla de Labarca \n28 de junio – La villa medieval de Salinillas de Buradón \n5 de julio – Del románico al renacimiento en Berberana y Páganos \n19 de julio – El esplendor histórico-artístico de Lanciego \n			\n				\n				\n				\n				\n				\n\n\nEstas rutas patrimoniales son gratuitas y no incluyen el traslado\,por lo que cada usuario deberá desplazarse en su vehículo particular. \nLa inscripción es obligatoria y deberá realizarse a través los siguientes medios: el teléfono 945-600-252 o vía whatsapp en el 640-308-778 \nAdemás\, la reserva también puede realizarse en la web visitriojaalavesa.com \nLas plazas son limitadas.Todos los recorridos se inician a las 11h (en el punto indicado en el cartel anunciador). \n\n\n¡Una oportunidad de lujo para conocer de primera mano\nnuestro territorio y su riqueza artística\n\n 
URL:https://alavamedieval.com/evento/visita-deleite-barroco-en-barriobusto-y-oyon/
CATEGORIES:Visita guiada
END:VEVENT
BEGIN:VEVENT
DTSTART;TZID=Europe/Helsinki:20250525T150000
DTEND;TZID=Europe/Helsinki:20250525T163000
DTSTAMP:20260420T110550
CREATED:20241115T073523Z
LAST-MODIFIED:20260123T200343Z
UID:23070-1748185200-1748190600@alavamedieval.com
SUMMARY:Visita Agurain/Salvatierra
DESCRIPTION:
URL:https://alavamedieval.com/evento/visita-agurain-salvatierra/2025-05-25/
CATEGORIES:Visita guiada
END:VEVENT
BEGIN:VEVENT
DTSTART;TZID=Europe/Helsinki:20250525T150000
DTEND;TZID=Europe/Helsinki:20250525T163000
DTSTAMP:20260420T110550
CREATED:20241115T074258Z
LAST-MODIFIED:20241115T074258Z
UID:23349-1748185200-1748190600@alavamedieval.com
SUMMARY:Visita guiada a Agurain/Salvatierra
DESCRIPTION:
URL:https://alavamedieval.com/evento/visita-guiada-a-agurain-salvatierra-2/2025-05-25/
CATEGORIES:Visita guiada
END:VEVENT
BEGIN:VEVENT
DTSTART;TZID=Europe/Helsinki:20250531T120000
DTEND;TZID=Europe/Helsinki:20250531T140000
DTSTAMP:20260420T110550
CREATED:20250327T150349Z
LAST-MODIFIED:20250327T150525Z
UID:23952-1748692800-1748700000@alavamedieval.com
SUMMARY:Ruta Patrimonial: "La villa fortificada de Antoñana y la devoción a San Fausto en Bujanda"
DESCRIPTION:Por quinto año consecutivo\, la Cuadrilla de Montaña Alavesa revalida su apuesta por dar a conocer los recursos histórico-patrimoniales de la comarca mediante un completo programa de rutas patrimoniales\, que tendrá su primer desarrollo durante la primavera. Este proyecto\, ideado en colaboración con Álava Medieval – Erdi Aroko Araba\, busca aproximar a la ciudadanía y a quienes nos visitan la historia y el arte que atesoran diversos municipios y concejos. Reivindicando la riqueza y el atractivo de lugares que escapan al turismo de los grandes circuitos\, en una apuesta clara y rigurosa por el conocimiento del territorio. \nEn esta ocasión\, son varias las rutas inéditas que se han programado\, en combinación con otros recorridos desarrollados con éxito en las campañas precedentes. De este modo\, el calendario completo sería el siguiente: \n			\n			\n				\n				\n				\n				\n			\n				\n				\n				\n				\n				\n				\n				\n				\n				\n				\n				5 de abril – Del románico al renacimiento: Onraita y Roitegui \n26 de abril – La riqueza patrimonial de la villa medieval de Kontrasta \n17 de mayo – El paisaje sagrado de Markinez \n31 de mayo – La villa fortificada de Antoñana y la devoción a San Fausto en Bujanda \n7 de junio – Arte e historia en los concejos de Peñacerrada: Loza y Baroja-Zumentu \n28 de junio – Del gótico a la edad moderna: Lagrán y Pipaón \n			\n				\n				\n				\n				\n				\n\nEstas rutas patrimoniales son gratuitas y no incluyen el traslado\,por lo que cada usuario deberá desplazarse en su vehículo particular. \nLa inscripción es obligatoria y deberá realizarse de lunes a juevesantes de la fecha de la ruta\, llamando al teléfono: 945 40 54 24.  \nLas plazas son limitadas. Y todos los recorridos se inician a las 10h. \n\nLa primera ruta se celebrará el primer fin de semana de abril\,¡no os la perdáis!\n 
URL:https://alavamedieval.com/evento/ruta-patrimonial-la-villa-fortificada-de-antonana-y-la-devocion-a-san-fausto-en-bujanda/
CATEGORIES:Visita guiada
END:VEVENT
END:VCALENDAR