BEGIN:VCALENDAR
VERSION:2.0
PRODID:-//Álava Medieval / Erdi Aroko Araba - ECPv6.15.17.1//NONSGML v1.0//EN
CALSCALE:GREGORIAN
METHOD:PUBLISH
X-ORIGINAL-URL:https://alavamedieval.com
X-WR-CALDESC:Eventos para Álava Medieval / Erdi Aroko Araba
REFRESH-INTERVAL;VALUE=DURATION:PT1H
X-Robots-Tag:noindex
X-PUBLISHED-TTL:PT1H
BEGIN:VTIMEZONE
TZID:Europe/Helsinki
BEGIN:DAYLIGHT
TZOFFSETFROM:+0200
TZOFFSETTO:+0300
TZNAME:EEST
DTSTART:20210328T010000
END:DAYLIGHT
BEGIN:STANDARD
TZOFFSETFROM:+0300
TZOFFSETTO:+0200
TZNAME:EET
DTSTART:20211031T010000
END:STANDARD
BEGIN:DAYLIGHT
TZOFFSETFROM:+0200
TZOFFSETTO:+0300
TZNAME:EEST
DTSTART:20220327T010000
END:DAYLIGHT
BEGIN:STANDARD
TZOFFSETFROM:+0300
TZOFFSETTO:+0200
TZNAME:EET
DTSTART:20221030T010000
END:STANDARD
BEGIN:DAYLIGHT
TZOFFSETFROM:+0200
TZOFFSETTO:+0300
TZNAME:EEST
DTSTART:20230326T010000
END:DAYLIGHT
BEGIN:STANDARD
TZOFFSETFROM:+0300
TZOFFSETTO:+0200
TZNAME:EET
DTSTART:20231029T010000
END:STANDARD
END:VTIMEZONE
BEGIN:VEVENT
DTSTART;TZID=Europe/Helsinki:20221105T130000
DTEND;TZID=Europe/Helsinki:20221105T153000
DTSTAMP:20260425T205721
CREATED:20220922T081337Z
LAST-MODIFIED:20220922T081337Z
UID:18057-1667653200-1667662200@alavamedieval.com
SUMMARY:Joyas del final del Gótico en Leza y Navaridas
DESCRIPTION:En este recorrido tendremos ocasión de visitar dos imponentes templos cuyos orígenes se remontan a la segunda mitad del siglo XV. Ambos edificios dan la bienvenida al visitante con sus elegantes portadas góticas (incorporándose además en Navaridas un segundo acceso\, ya del siglo XVIII) y en el interior custodian importantes obras: una buena colección de retablos barrocos\, sillerías corales de estupenda factura y un sinfín de detalles que evidencian el poderío económico de ambas localidades a lo largo de la Edad Moderna. \nPunto de encuentro: iglesia parroquial de San Martín en Leza. \nLugares a visitar: \n\nIglesia de San Martín de Leza.\nIglesia de la Inmaculada Concepción de Navaridas.\n\nReserva previa obligatoria: 945600252.
URL:https://alavamedieval.com/evento/leza-navaridas-visita/
CATEGORIES:Visita guiada
ATTACH;FMTTYPE=image/png:https://alavamedieval.com/wp-content/uploads/2022/09/CARTEL-VISITAS-PATRIMONIALES-2022-min.png
END:VEVENT
BEGIN:VEVENT
DTSTART;TZID=Europe/Helsinki:20221111T203000
DTEND;TZID=Europe/Helsinki:20221111T223000
DTSTAMP:20260425T205721
CREATED:20221024T070356Z
LAST-MODIFIED:20221024T070356Z
UID:18086-1668198600-1668205800@alavamedieval.com
SUMMARY:Caminando entre cadáveres
DESCRIPTION:Vitoria es una ciudad rebosante de vida donde la muerte aguarda en cada esquina. Bajo las baldosas que pisamos a diario reposan antiguos muertos que\, de vez en cuando\, salen a la luz removidos por las excavadoras o por los pinceles de l@s profesionales de la Arqueología. \nEn nuestras más renombradas iglesias conservamos sepulcros de célebres cadáveres que en vida marcaron la historia de nuestra ciudad. Incluso podemos todavía contemplar\, en lugares expuestos a la vista\, las viejas tumbas de personajes olvidados. \nAntiguos mitos\, lugares de ejecución\, rituales funerarios milenarios\, leyendas\, historia y memoria se conjugan en una ruta en la que los vivos de la ciudad saludarán a los antiguos muertos. \nReserva previa obligatoria: 660766383//contacto@alavamedieval.com
URL:https://alavamedieval.com/evento/caminando-entre-cadaveres/2022-11-11/
LOCATION:San Pedro Apóstol\, Fundadora de las Siervas de Jesús\, 2\, Vitoria-Gasteiz\, Álava\, 01001\, España
CATEGORIES:Visita guiada
ATTACH;FMTTYPE=image/jpeg:https://alavamedieval.com/wp-content/uploads/2022/10/312589828_419530310362421_1317185655488678328_n.jpg
ORGANIZER;CN="%C3%81lava Medieval/Erdi Aroko Araba":MAILTO:info@alavamedieval.com
END:VEVENT
BEGIN:VEVENT
DTSTART;TZID=Europe/Helsinki:20221112T190000
DTEND;TZID=Europe/Helsinki:20221112T210000
DTSTAMP:20260425T205721
CREATED:20221024T074505Z
LAST-MODIFIED:20221024T074505Z
UID:18098-1668279600-1668286800@alavamedieval.com
SUMMARY:Camposanto: historias de vida y muerte en Santa Isabel
DESCRIPTION:Un recorrido insólito para conocer la historia ignorada del cementerio de Santa Isabel. Episodios fúnebres y conmovedores\, vividos todos ellos en este monumental escenario. Airados debates en la morgue\, en una de las autopsias más concurridas de la historia; dos estacas señalando el paradero de un mártir a la espera de una exhumación honrosa; el tristísimo relato de un suicida enterrado junto a un misero pozo o el miedo ancestral a un entierro prematuro. \nUna ruta impregnada de símbolos y de un mar de nombres\, entre la gloria y el olvido. \nReserva previa obligatoria: 660766383//contacto@alavamedieval.com
URL:https://alavamedieval.com/evento/cementerio-santa-isabel/2022-11-12/
LOCATION:Cementerio de Santa Isabel\, Cuadrilla de Vitoria\, Vitoria-Gasteiz\, Álava\, 01013\, España
CATEGORIES:Visita guiada
ATTACH;FMTTYPE=image/jpeg:https://alavamedieval.com/wp-content/uploads/2022/10/312589828_419530310362421_1317185655488678328_n.jpg
ORGANIZER;CN="%C3%81lava Medieval/Erdi Aroko Araba":MAILTO:info@alavamedieval.com
END:VEVENT
BEGIN:VEVENT
DTSTART;TZID=Europe/Helsinki:20221112T210000
DTEND;TZID=Europe/Helsinki:20221112T230000
DTSTAMP:20260425T205721
CREATED:20221024T074104Z
LAST-MODIFIED:20221024T074104Z
UID:18094-1668286800-1668294000@alavamedieval.com
SUMMARY:La Vitoria oculta de Enrique Echazarra
DESCRIPTION:Enrique Echazarra\, incansable investigador y divulgador de los secretos más notables de nuestra provincia\, nos plantea un recorrido lleno de misterio en las calles de la ciudad de Vitoria-Gasteiz. Leyendas urbanas\, crónica negra\, avistamientos de ovnis o apariciones. Colaborador habitual del programa de Iker Jiménez Cuarto Milenio\, Enrique Echazarra lleva más de tres décadas recopilando testimonios y documentos que podremos conocer de su mano por medio de esta sorprendente visita nocturna. \nReserva previa obligatoria: 660766383 // contacto@alavamedieval.com
URL:https://alavamedieval.com/evento/la-vitoria-oculta-de-enrique-echazarra/2022-11-12/
LOCATION:Palacio Zulueta\, Paseo de la Senda\, 2\, Vitoria-Gasteiz\, Álava\, 01007\, España
CATEGORIES:Visita guiada
ATTACH;FMTTYPE=image/jpeg:https://alavamedieval.com/wp-content/uploads/2022/10/312589828_419530310362421_1317185655488678328_n.jpg
ORGANIZER;CN="%C3%81lava Medieval/Erdi Aroko Araba":MAILTO:info@alavamedieval.com
END:VEVENT
END:VCALENDAR